BEGIN:VCALENDAR
VERSION:2.0
PRODID:-//The Duke Saloon - Victoria BC&#039;s Country Bar - ECPv6.15.20//NONSGML v1.0//EN
CALSCALE:GREGORIAN
METHOD:PUBLISH
X-ORIGINAL-URL:https://thedukesaloon.com
X-WR-CALDESC:Events for The Duke Saloon - Victoria BC&#039;s Country Bar
REFRESH-INTERVAL;VALUE=DURATION:PT1H
X-Robots-Tag:noindex
X-PUBLISHED-TTL:PT1H
BEGIN:VTIMEZONE
TZID:America/Vancouver
BEGIN:DAYLIGHT
TZOFFSETFROM:-0800
TZOFFSETTO:-0700
TZNAME:PDT
DTSTART:20230312T100000
END:DAYLIGHT
BEGIN:STANDARD
TZOFFSETFROM:-0700
TZOFFSETTO:-0800
TZNAME:PST
DTSTART:20231105T090000
END:STANDARD
BEGIN:DAYLIGHT
TZOFFSETFROM:-0800
TZOFFSETTO:-0700
TZNAME:PDT
DTSTART:20240310T100000
END:DAYLIGHT
BEGIN:STANDARD
TZOFFSETFROM:-0700
TZOFFSETTO:-0800
TZNAME:PST
DTSTART:20241103T090000
END:STANDARD
BEGIN:DAYLIGHT
TZOFFSETFROM:-0800
TZOFFSETTO:-0700
TZNAME:PDT
DTSTART:20250309T100000
END:DAYLIGHT
BEGIN:STANDARD
TZOFFSETFROM:-0700
TZOFFSETTO:-0800
TZNAME:PST
DTSTART:20251102T090000
END:STANDARD
END:VTIMEZONE
BEGIN:VEVENT
DTSTART;TZID=America/Vancouver:20240815T200000
DTEND;TZID=America/Vancouver:20240816T000000
DTSTAMP:20260419T114010
CREATED:20240730T194201Z
LAST-MODIFIED:20240803T012731Z
UID:10002369-1723752000-1723766400@thedukesaloon.com
SUMMARY:THROW DOWN THURSDAYS VOLUME III
DESCRIPTION:Throw Down Thursdays\nFeaturing Oakes & Baby Boy and the Earthly Delights \nThursday\, July 18th\, 2024\nDoors: 8PM\nShow Wrap-Up: 12AM \n19+ \nOutline: We are excited to announce a new monthly addition to The Duke Saloon’s music calendar! Throwdown Thursdays will shine a spotlight on local talent\, helping you find your new favorite bands from among Victoria’s rising stars. \nBand Bios: \nBaby Boy and the Earthly Delights: \nThis dynamic ensemble of Vancouver Island musicians\, performs a fusion of roots-rock and pop melodies that is sure to get audiences on their feet. Picture The Clash’s dabble into reggae-rock\, intertwined with the heartfelt sincerity of Jack Johnson\, and you’ll understand The Earthly Delights’ distinctive sound. \nWith electrifying guitar riffs\, a steady rock rhythm\, infectious tunes\, and a knack for narrative storytelling\, Baby Boy & the Earthly Delights aim to enchant crowds with their signature blend of roots-rock and soul. Their shows bursts with energy\, aesthetic\, and special guest appearances and features. It’s a style of music that resonates across generations and demographics. \nSo come join Baby Boy & the Earthly Delights on their enchanting journey through the garden of musical delights. \nOakes: \nIf you enjoy energetic rock music\, you might like Oakes.\nIf you like to dance and get sweaty\, you might like Oakes\nIf you like harmonies and songs with lyrics that kind of say something\, you might like Oakes.\nIf you like Weak Patrol or Dripping Fins\, you might like Oakes.\nIf you like Caleb Kennedy\, Cairo Kennedy\, Astrid Bosse\, Harbour Nolan or Dekan Delaney\, you might like Oakes.\nCome listen\, you might like us…\nWe’re Oakes. \nChilko in the Rosemary: \nChilko in the Rosemary is a full-bodied\, three-piece experience from Victoria\, BC\, blurring the lines of rock and pop\, augmented with surfable waves of funk and soul. Their catchy melodies and animated performance create a happy atmosphere suited for all to enjoy the way they want. Chilko will trigger the dancer in you\, whether you dance like a hurricane\, groove like a gorilla\, or chill like a sloth. The vibe is one size fits all. \nAs per government regulations\, we require two pieces of valid ID for entry\, including one piece of government issued Photo ID. We are proud members of the BarWatch Program.
URL:https://thedukesaloon.com/event/throw-down-thursdays-volume-iii/
LOCATION:The Duke Saloon\, 502 Discovery Street\, Victoria\, BC\, V8T 1G8\, Canada
CATEGORIES:Special Events
END:VEVENT
BEGIN:VEVENT
DTSTART;TZID=America/Vancouver:20240824T160000
DTEND;TZID=America/Vancouver:20240824T220000
DTSTAMP:20260419T114010
CREATED:20240610T182552Z
LAST-MODIFIED:20240803T023331Z
UID:10002359-1724515200-1724536800@thedukesaloon.com
SUMMARY:THE DECADE BLOCK PARTY
DESCRIPTION:The Decade Block Party\nCelebrating 10 Years of The Duke Saloon\nFeaturing Pony Gold\, Dawson Gray & Ben Dunnill\, Hillside Outlaws & Hailey Benedict \nSaturday\, August 24th\, 2024 \nLocation: Discovery Street Outside of The Duke\nStart: 4PM\nWrap-Up: 10PM \nTickets:\nOn Sale July 1st\, 2024 \n19+ \nOutline: On Saturday\, August 24th\, we will be celebrating 10 years of The Duke Saloon with our first ever block party! We will be shutting down a portion of Discovery Street from 4PM to 10PM to allow you to enjoy some amazing music in the sun! \nIf you’d like to continue the party afterwards\, The Duke Saloon will be open from 10PM until 2AM.** \n**Entry to The Duke Saloon after 10PM on Saturday\, August 24th\, is NOT included in the ticket fee. The ticket only covers entry to the block party itself. While we would love to see everyone there\, our capacity will not allow that many country lovers!** \nThe Duke Saloon first opened its doors in August of 2014. Since that incredible opening weekend\, The Duke has hosted countless amazing patrons\, been graced by numerous talented performers\, and established itself as an institution of British Columbian country music. We encourage all of our amazing patrons to come on by and celebrate with us. The Duke could never have become what it is today without your support. \n\nAs per government regulations\, we require two pieces of valid ID for entry\, including one piece of government issued Photo ID. We are proud members of the BarWatch Program.
URL:https://thedukesaloon.com/event/decade-block-party/
LOCATION:The Duke Saloon\, 502 Discovery Street\, Victoria\, BC\, V8T 1G8\, Canada
CATEGORIES:Special Events
END:VEVENT
END:VCALENDAR