BEGIN:VCALENDAR
VERSION:2.0
PRODID:-//The Duke Saloon - Victoria BC&#039;s Country Bar - ECPv6.15.20//NONSGML v1.0//EN
CALSCALE:GREGORIAN
METHOD:PUBLISH
X-ORIGINAL-URL:https://thedukesaloon.com
X-WR-CALDESC:Events for The Duke Saloon - Victoria BC&#039;s Country Bar
REFRESH-INTERVAL;VALUE=DURATION:PT1H
X-Robots-Tag:noindex
X-PUBLISHED-TTL:PT1H
BEGIN:VTIMEZONE
TZID:America/Vancouver
BEGIN:DAYLIGHT
TZOFFSETFROM:-0800
TZOFFSETTO:-0700
TZNAME:PDT
DTSTART:20230312T100000
END:DAYLIGHT
BEGIN:STANDARD
TZOFFSETFROM:-0700
TZOFFSETTO:-0800
TZNAME:PST
DTSTART:20231105T090000
END:STANDARD
BEGIN:DAYLIGHT
TZOFFSETFROM:-0800
TZOFFSETTO:-0700
TZNAME:PDT
DTSTART:20240310T100000
END:DAYLIGHT
BEGIN:STANDARD
TZOFFSETFROM:-0700
TZOFFSETTO:-0800
TZNAME:PST
DTSTART:20241103T090000
END:STANDARD
BEGIN:DAYLIGHT
TZOFFSETFROM:-0800
TZOFFSETTO:-0700
TZNAME:PDT
DTSTART:20250309T100000
END:DAYLIGHT
BEGIN:STANDARD
TZOFFSETFROM:-0700
TZOFFSETTO:-0800
TZNAME:PST
DTSTART:20251102T090000
END:STANDARD
END:VTIMEZONE
BEGIN:VEVENT
DTSTART;TZID=America/Vancouver:20240606T200000
DTEND;TZID=America/Vancouver:20240607T000000
DTSTAMP:20260419T150215
CREATED:20240604T181400Z
LAST-MODIFIED:20240715T154157Z
UID:10002358-1717704000-1717718400@thedukesaloon.com
SUMMARY:THROW DOWN THURSDAYS VOLUME I
DESCRIPTION:Throw Down Thursdays\nFeaturing The New Owners\, Sam Kaiser & Trouble on the Outskirts\n\nThursday\, June 6th\, 2024\nDoors: 8PM\nShow Wrap-Up: 12AM\n\n19+\n\n\nOutline: We are excited to announce a new monthly addition to The Duke Saloon’s music calendar! Throwdown Thursdays will shine a spotlight on local talent\, helping you find your new favorite bands from among Victoria’s rising stars.Band Bios: \nThe New Owners: \nThe New Owners are a 5-piece indie rock / indie pop band from Langford BC consisting of dual frontmen Elijah Driver and Jamie Beaman both on guitar and vocals\, Brandon Weatherell on bass\, Tyler Thomassen on drums\, and Erik Evans on keys. The 5-piece outfit sport sweet and sticky grooves underneath warm\, catchy melodies with a colorful combination of chorused-out guitars\, spacey synths\, and the upbeat tempo of their indie rock roots\, taking inspiration from indie pop bands like Men I Trust\, Mac Demarco\, and Her’s. \n\nTrouble on the Outskirts: \nTrouble on the Outskirts began in the thralls of a smokey jazz club in downtown Victoria BC. The initial duo of guitarist (Max Mackrill) and drummer (Michael Tessier) began crafting songs by pulling inspiration from the likes of Sam Fender\, Arkells and The Killers. They were soon joined by local talent\, including bassist (Jared Sundberg)\, keyboardist (Erik Evans)\, and finally guitarist (Cole Senger)\, quickly expanding to establish their own unique sound. They lovingly called this identity “Indie Twang Rock”. \nSam Kaiser: \nA singer-songwriter from Hong Kong who is now based in Victoria\, Sam’s approach to music is reflective of his mixed heritage and upbringing across the world.  He explores themes of distance\, longing\, and hope while acknowledging growth and his own perception of the world around him.  His intricate fingerpicking and layers of guitar and vocals complement his stripped-back style\, which is ever evolving\, much like him. \n\nAs per government regulations\, we require two pieces of valid ID for entry\, including one piece of government issued Photo ID. We are proud members of the BarWatch Program.
URL:https://thedukesaloon.com/event/throw-down-thursday-vol-i/
LOCATION:The Duke Saloon\, 502 Discovery Street\, Victoria\, BC\, V8T 1G8\, Canada
CATEGORIES:Special Events,Weekly
END:VEVENT
END:VCALENDAR