BEGIN:VCALENDAR
VERSION:2.0
PRODID:-//The Duke Saloon - Victoria BC&#039;s Country Bar - ECPv6.15.20//NONSGML v1.0//EN
CALSCALE:GREGORIAN
METHOD:PUBLISH
X-ORIGINAL-URL:https://thedukesaloon.com
X-WR-CALDESC:Events for The Duke Saloon - Victoria BC&#039;s Country Bar
REFRESH-INTERVAL;VALUE=DURATION:PT1H
X-Robots-Tag:noindex
X-PUBLISHED-TTL:PT1H
BEGIN:VTIMEZONE
TZID:America/Vancouver
BEGIN:DAYLIGHT
TZOFFSETFROM:-0800
TZOFFSETTO:-0700
TZNAME:PDT
DTSTART:20240310T100000
END:DAYLIGHT
BEGIN:STANDARD
TZOFFSETFROM:-0700
TZOFFSETTO:-0800
TZNAME:PST
DTSTART:20241103T090000
END:STANDARD
BEGIN:DAYLIGHT
TZOFFSETFROM:-0800
TZOFFSETTO:-0700
TZNAME:PDT
DTSTART:20250309T100000
END:DAYLIGHT
BEGIN:STANDARD
TZOFFSETFROM:-0700
TZOFFSETTO:-0800
TZNAME:PST
DTSTART:20251102T090000
END:STANDARD
BEGIN:DAYLIGHT
TZOFFSETFROM:-0800
TZOFFSETTO:-0700
TZNAME:PDT
DTSTART:20260308T100000
END:DAYLIGHT
BEGIN:STANDARD
TZOFFSETFROM:-0700
TZOFFSETTO:-0800
TZNAME:PST
DTSTART:20261101T090000
END:STANDARD
END:VTIMEZONE
BEGIN:VEVENT
DTSTART;TZID=America/Vancouver:20251004T210000
DTEND;TZID=America/Vancouver:20251005T020000
DTSTAMP:20260419T052821
CREATED:20240516T165948Z
LAST-MODIFIED:20251028T175501Z
UID:10002163-1759611600-1759629600@thedukesaloon.com
SUMMARY:OUTLAW SATURDAYS
DESCRIPTION:Outlaw Saturdays\nFeaturing The Tumblin’ Dice \nEvery Saturday \nDoors: 9PM\nClose: 2AM \nEnjoy Victoria’s premier live music venue on its busiest night. Our flagship band\, The Tumblin’ Dice\, will take the stage for an evening of amazing tunes. \nHappy Hour Hoedown: From 9PM to 10PM we will be offering $5.75 highballs\, $5.75 Coors\, and $5.75 Arizona! \nIn accordance with government regulations\, we are required to review two pieces of valid identification upon entry. These pieces must be physical\, not digital\, and one of them must be a piece of government issued photo ID. We are members of the BarWatch Program.
URL:https://thedukesaloon.com/event/outlaw-saturdays-2/2025-10-04/
LOCATION:The Duke Saloon\, 502 Discovery Street\, Victoria\, BC\, V8T 1G8\, Canada
CATEGORIES:Saturdays,Weekly
ATTACH;FMTTYPE=image/jpeg:https://thedukesaloon.com/wp-content/uploads/2024/05/Image-43.jpg
END:VEVENT
BEGIN:VEVENT
DTSTART;TZID=America/Vancouver:20251011T210000
DTEND;TZID=America/Vancouver:20251012T020000
DTSTAMP:20260419T052821
CREATED:20240516T165948Z
LAST-MODIFIED:20251028T175501Z
UID:10002164-1760216400-1760234400@thedukesaloon.com
SUMMARY:OUTLAW SATURDAYS
DESCRIPTION:Outlaw Saturdays\nFeaturing The Tumblin’ Dice \nEvery Saturday \nDoors: 9PM\nClose: 2AM \nEnjoy Victoria’s premier live music venue on its busiest night. Our flagship band\, The Tumblin’ Dice\, will take the stage for an evening of amazing tunes. \nHappy Hour Hoedown: From 9PM to 10PM we will be offering $5.75 highballs\, $5.75 Coors\, and $5.75 Arizona! \nIn accordance with government regulations\, we are required to review two pieces of valid identification upon entry. These pieces must be physical\, not digital\, and one of them must be a piece of government issued photo ID. We are members of the BarWatch Program.
URL:https://thedukesaloon.com/event/outlaw-saturdays-2/2025-10-11/
LOCATION:The Duke Saloon\, 502 Discovery Street\, Victoria\, BC\, V8T 1G8\, Canada
CATEGORIES:Saturdays,Weekly
ATTACH;FMTTYPE=image/jpeg:https://thedukesaloon.com/wp-content/uploads/2024/05/Image-43.jpg
END:VEVENT
BEGIN:VEVENT
DTSTART;TZID=America/Vancouver:20251018T210000
DTEND;TZID=America/Vancouver:20251019T020000
DTSTAMP:20260419T052821
CREATED:20240516T165948Z
LAST-MODIFIED:20251028T175501Z
UID:10002165-1760821200-1760839200@thedukesaloon.com
SUMMARY:OUTLAW SATURDAYS
DESCRIPTION:Outlaw Saturdays\nFeaturing The Tumblin’ Dice \nEvery Saturday \nDoors: 9PM\nClose: 2AM \nEnjoy Victoria’s premier live music venue on its busiest night. Our flagship band\, The Tumblin’ Dice\, will take the stage for an evening of amazing tunes. \nHappy Hour Hoedown: From 9PM to 10PM we will be offering $5.75 highballs\, $5.75 Coors\, and $5.75 Arizona! \nIn accordance with government regulations\, we are required to review two pieces of valid identification upon entry. These pieces must be physical\, not digital\, and one of them must be a piece of government issued photo ID. We are members of the BarWatch Program.
URL:https://thedukesaloon.com/event/outlaw-saturdays-2/2025-10-18/
LOCATION:The Duke Saloon\, 502 Discovery Street\, Victoria\, BC\, V8T 1G8\, Canada
CATEGORIES:Saturdays,Weekly
ATTACH;FMTTYPE=image/jpeg:https://thedukesaloon.com/wp-content/uploads/2024/05/Image-43.jpg
END:VEVENT
BEGIN:VEVENT
DTSTART;TZID=America/Vancouver:20251025T210000
DTEND;TZID=America/Vancouver:20251026T020000
DTSTAMP:20260419T052821
CREATED:20240516T165948Z
LAST-MODIFIED:20251028T175501Z
UID:10002166-1761426000-1761444000@thedukesaloon.com
SUMMARY:OUTLAW SATURDAYS
DESCRIPTION:Outlaw Saturdays\nFeaturing The Tumblin’ Dice \nEvery Saturday \nDoors: 9PM\nClose: 2AM \nEnjoy Victoria’s premier live music venue on its busiest night. Our flagship band\, The Tumblin’ Dice\, will take the stage for an evening of amazing tunes. \nHappy Hour Hoedown: From 9PM to 10PM we will be offering $5.75 highballs\, $5.75 Coors\, and $5.75 Arizona! \nIn accordance with government regulations\, we are required to review two pieces of valid identification upon entry. These pieces must be physical\, not digital\, and one of them must be a piece of government issued photo ID. We are members of the BarWatch Program.
URL:https://thedukesaloon.com/event/outlaw-saturdays-2/2025-10-25/
LOCATION:The Duke Saloon\, 502 Discovery Street\, Victoria\, BC\, V8T 1G8\, Canada
CATEGORIES:Saturdays,Weekly
ATTACH;FMTTYPE=image/jpeg:https://thedukesaloon.com/wp-content/uploads/2024/05/Image-43.jpg
END:VEVENT
END:VCALENDAR