BEGIN:VCALENDAR
VERSION:2.0
PRODID:-//The Duke Saloon - Victoria BC&#039;s Country Bar - ECPv6.15.20//NONSGML v1.0//EN
CALSCALE:GREGORIAN
METHOD:PUBLISH
X-WR-CALNAME:The Duke Saloon - Victoria BC&#039;s Country Bar
X-ORIGINAL-URL:https://thedukesaloon.com
X-WR-CALDESC:Events for The Duke Saloon - Victoria BC&#039;s Country Bar
REFRESH-INTERVAL;VALUE=DURATION:PT1H
X-Robots-Tag:noindex
X-PUBLISHED-TTL:PT1H
BEGIN:VTIMEZONE
TZID:America/Vancouver
BEGIN:DAYLIGHT
TZOFFSETFROM:-0800
TZOFFSETTO:-0700
TZNAME:PDT
DTSTART:20230312T100000
END:DAYLIGHT
BEGIN:STANDARD
TZOFFSETFROM:-0700
TZOFFSETTO:-0800
TZNAME:PST
DTSTART:20231105T090000
END:STANDARD
BEGIN:DAYLIGHT
TZOFFSETFROM:-0800
TZOFFSETTO:-0700
TZNAME:PDT
DTSTART:20240310T100000
END:DAYLIGHT
BEGIN:STANDARD
TZOFFSETFROM:-0700
TZOFFSETTO:-0800
TZNAME:PST
DTSTART:20241103T090000
END:STANDARD
BEGIN:DAYLIGHT
TZOFFSETFROM:-0800
TZOFFSETTO:-0700
TZNAME:PDT
DTSTART:20250309T100000
END:DAYLIGHT
BEGIN:STANDARD
TZOFFSETFROM:-0700
TZOFFSETTO:-0800
TZNAME:PST
DTSTART:20251102T090000
END:STANDARD
END:VTIMEZONE
BEGIN:VEVENT
DTSTART;TZID=America/Vancouver:20240601T210000
DTEND;TZID=America/Vancouver:20240602T020000
DTSTAMP:20260422T064828
CREATED:20240516T165948Z
LAST-MODIFIED:20251028T175501Z
UID:10002093-1717275600-1717293600@thedukesaloon.com
SUMMARY:OUTLAW SATURDAYS
DESCRIPTION:Outlaw Saturdays\nFeaturing The Tumblin’ Dice \nEvery Saturday \nDoors: 9PM\nClose: 2AM \nEnjoy Victoria’s premier live music venue on its busiest night. Our flagship band\, The Tumblin’ Dice\, will take the stage for an evening of amazing tunes. \nHappy Hour Hoedown: From 9PM to 10PM we will be offering $5.75 highballs\, $5.75 Coors\, and $5.75 Arizona! \nIn accordance with government regulations\, we are required to review two pieces of valid identification upon entry. These pieces must be physical\, not digital\, and one of them must be a piece of government issued photo ID. We are members of the BarWatch Program.
URL:https://thedukesaloon.com/event/outlaw-saturdays-2/2024-06-01/
LOCATION:The Duke Saloon\, 502 Discovery Street\, Victoria\, BC\, V8T 1G8\, Canada
CATEGORIES:Saturdays,Weekly
ATTACH;FMTTYPE=image/jpeg:https://thedukesaloon.com/wp-content/uploads/2024/05/Image-43.jpg
END:VEVENT
BEGIN:VEVENT
DTSTART;TZID=America/Vancouver:20240608T210000
DTEND;TZID=America/Vancouver:20240609T020000
DTSTAMP:20260422T064828
CREATED:20240516T165948Z
LAST-MODIFIED:20251028T175501Z
UID:10002094-1717880400-1717898400@thedukesaloon.com
SUMMARY:OUTLAW SATURDAYS
DESCRIPTION:Outlaw Saturdays\nFeaturing The Tumblin’ Dice \nEvery Saturday \nDoors: 9PM\nClose: 2AM \nEnjoy Victoria’s premier live music venue on its busiest night. Our flagship band\, The Tumblin’ Dice\, will take the stage for an evening of amazing tunes. \nHappy Hour Hoedown: From 9PM to 10PM we will be offering $5.75 highballs\, $5.75 Coors\, and $5.75 Arizona! \nIn accordance with government regulations\, we are required to review two pieces of valid identification upon entry. These pieces must be physical\, not digital\, and one of them must be a piece of government issued photo ID. We are members of the BarWatch Program.
URL:https://thedukesaloon.com/event/outlaw-saturdays-2/2024-06-08/
LOCATION:The Duke Saloon\, 502 Discovery Street\, Victoria\, BC\, V8T 1G8\, Canada
CATEGORIES:Saturdays,Weekly
ATTACH;FMTTYPE=image/jpeg:https://thedukesaloon.com/wp-content/uploads/2024/05/Image-43.jpg
END:VEVENT
BEGIN:VEVENT
DTSTART;TZID=America/Vancouver:20240615T210000
DTEND;TZID=America/Vancouver:20240616T020000
DTSTAMP:20260422T064828
CREATED:20240516T165948Z
LAST-MODIFIED:20251028T175501Z
UID:10002095-1718485200-1718503200@thedukesaloon.com
SUMMARY:OUTLAW SATURDAYS
DESCRIPTION:Outlaw Saturdays\nFeaturing The Tumblin’ Dice \nEvery Saturday \nDoors: 9PM\nClose: 2AM \nEnjoy Victoria’s premier live music venue on its busiest night. Our flagship band\, The Tumblin’ Dice\, will take the stage for an evening of amazing tunes. \nHappy Hour Hoedown: From 9PM to 10PM we will be offering $5.75 highballs\, $5.75 Coors\, and $5.75 Arizona! \nIn accordance with government regulations\, we are required to review two pieces of valid identification upon entry. These pieces must be physical\, not digital\, and one of them must be a piece of government issued photo ID. We are members of the BarWatch Program.
URL:https://thedukesaloon.com/event/outlaw-saturdays-2/2024-06-15/
LOCATION:The Duke Saloon\, 502 Discovery Street\, Victoria\, BC\, V8T 1G8\, Canada
CATEGORIES:Saturdays,Weekly
ATTACH;FMTTYPE=image/jpeg:https://thedukesaloon.com/wp-content/uploads/2024/05/Image-43.jpg
END:VEVENT
BEGIN:VEVENT
DTSTART;TZID=America/Vancouver:20240622T210000
DTEND;TZID=America/Vancouver:20240623T020000
DTSTAMP:20260422T064828
CREATED:20240516T165948Z
LAST-MODIFIED:20251028T175501Z
UID:10002096-1719090000-1719108000@thedukesaloon.com
SUMMARY:OUTLAW SATURDAYS
DESCRIPTION:Outlaw Saturdays\nFeaturing The Tumblin’ Dice \nEvery Saturday \nDoors: 9PM\nClose: 2AM \nEnjoy Victoria’s premier live music venue on its busiest night. Our flagship band\, The Tumblin’ Dice\, will take the stage for an evening of amazing tunes. \nHappy Hour Hoedown: From 9PM to 10PM we will be offering $5.75 highballs\, $5.75 Coors\, and $5.75 Arizona! \nIn accordance with government regulations\, we are required to review two pieces of valid identification upon entry. These pieces must be physical\, not digital\, and one of them must be a piece of government issued photo ID. We are members of the BarWatch Program.
URL:https://thedukesaloon.com/event/outlaw-saturdays-2/2024-06-22/
LOCATION:The Duke Saloon\, 502 Discovery Street\, Victoria\, BC\, V8T 1G8\, Canada
CATEGORIES:Saturdays,Weekly
ATTACH;FMTTYPE=image/jpeg:https://thedukesaloon.com/wp-content/uploads/2024/05/Image-43.jpg
END:VEVENT
BEGIN:VEVENT
DTSTART;TZID=America/Vancouver:20240629T210000
DTEND;TZID=America/Vancouver:20240630T020000
DTSTAMP:20260422T064828
CREATED:20240516T165948Z
LAST-MODIFIED:20251028T175501Z
UID:10002097-1719694800-1719712800@thedukesaloon.com
SUMMARY:OUTLAW SATURDAYS
DESCRIPTION:Outlaw Saturdays\nFeaturing The Tumblin’ Dice \nEvery Saturday \nDoors: 9PM\nClose: 2AM \nEnjoy Victoria’s premier live music venue on its busiest night. Our flagship band\, The Tumblin’ Dice\, will take the stage for an evening of amazing tunes. \nHappy Hour Hoedown: From 9PM to 10PM we will be offering $5.75 highballs\, $5.75 Coors\, and $5.75 Arizona! \nIn accordance with government regulations\, we are required to review two pieces of valid identification upon entry. These pieces must be physical\, not digital\, and one of them must be a piece of government issued photo ID. We are members of the BarWatch Program.
URL:https://thedukesaloon.com/event/outlaw-saturdays-2/2024-06-29/
LOCATION:The Duke Saloon\, 502 Discovery Street\, Victoria\, BC\, V8T 1G8\, Canada
CATEGORIES:Saturdays,Weekly
ATTACH;FMTTYPE=image/jpeg:https://thedukesaloon.com/wp-content/uploads/2024/05/Image-43.jpg
END:VEVENT
END:VCALENDAR